BEGIN:VCALENDAR
VERSION:2.0
PRODID:-//ChamberMaster//Event Calendar 2.0//EN
METHOD:PUBLISH
X-PUBLISHED-TTL:P1H
REFRESH-INTERVAL:P1H
CALSCALE:GREGORIAN
BEGIN:VTIMEZONE
TZID:America/New_York
BEGIN:DAYLIGHT
RRULE:FREQ=YEARLY;BYMONTH=3;BYDAY=2SU
DTSTART:20070101T000000
TZOFFSETFROM:-0500
TZOFFSETTO:-0400
TZNAME:Eastern Daylight Time
END:DAYLIGHT
BEGIN:STANDARD
RRULE:FREQ=YEARLY;BYMONTH=11;BYDAY=1SU
DTSTART:20070101T000000
TZOFFSETFROM:-0400
TZOFFSETTO:-0500
TZNAME:Eastern Standard Time
END:STANDARD
END:VTIMEZONE
BEGIN:VEVENT
DTSTART;TZID=America/New_York:20260910T140000
DTEND;TZID=America/New_York:20260910T150000
X-MICROSOFT-CDO-ALLDAYEVENT:FALSE
SUMMARY:2026 Digital Lunch and Learn: Common Exam Issues and How to Rectify Them
DESCRIPTION:This panel of some of the leading SBIC CFOs discuss what they've seen examiners focus more in 2026\, proactive risk mitigation actions to take\, best practices on corresponding with the SBA after exams and written findings\, exam timing and onsite frequency and best practices\, the impact findings have on Fast track and more.PanelistsModerator: Philip Feigen- Polsinelli Law FirmLeslie Skolnekovich - Tecum CapitalAlejandro Capetillo - Agile Growth EquityBeth Manzi- RF PartnersCasey Hammontree - Resolute Capital Partners
X-ALT-DESC;FMTTYPE=text/html:<!DOCTYPE html><html><head><title></title></head><body aria-disabled="false" data-gr-ext-installed="" data-new-gr-c-s-check-loaded="14.1283.0" data-new-gr-c-s-loaded="14.1283.0"><p>This panel of some of the leading SBIC CFOs discuss what they&#39\;ve seen examiners focus more in 2026\, proactive risk mitigation actions to take\, best practices on corresponding with the SBA after exams and written findings\, exam timing and onsite frequency and best practices\, the impact findings have on Fast track and more.</p><p><strong fr-original-style="" style="font-weight: 700\;">Panelists</strong></p><p>Moderator: Philip Feigen- Polsinelli Law Firm</p><p>Leslie Skolnekovich - Tecum Capital</p><p>Alejandro Capetillo - Agile Growth Equity</p><p>Beth Manzi- RF Partners</p><p>Casey Hammontree - Resolute Capital Partners</p></body></html>
LOCATION:
UID:e.3233.1445420
SEQUENCE:3
DTSTAMP:20260421T124140Z
URL:https://members.sbia.org/events/Details/2026-digital-lunch-and-learn-common-exam-issues-and-how-to-rectify-them-1712015?sourceTypeId=Hub
END:VEVENT
END:VCALENDAR
