BEGIN:VCALENDAR
VERSION:2.0
PRODID:-//ChamberMaster//Event Calendar 2.0//EN
METHOD:PUBLISH
X-PUBLISHED-TTL:P1H
REFRESH-INTERVAL:P1H
CALSCALE:GREGORIAN
BEGIN:VTIMEZONE
TZID:America/New_York
BEGIN:DAYLIGHT
RRULE:FREQ=YEARLY;BYMONTH=3;BYDAY=2SU
DTSTART:20070101T000000
TZOFFSETFROM:-0500
TZOFFSETTO:-0400
TZNAME:Eastern Daylight Time
END:DAYLIGHT
BEGIN:STANDARD
RRULE:FREQ=YEARLY;BYMONTH=11;BYDAY=1SU
DTSTART:20070101T000000
TZOFFSETFROM:-0400
TZOFFSETTO:-0500
TZNAME:Eastern Standard Time
END:STANDARD
END:VTIMEZONE
BEGIN:VEVENT
DTSTART;TZID=America/New_York:20240124T173000
DTEND;TZID=America/New_York:20240124T190000
X-MICROSOFT-CDO-ALLDAYEVENT:FALSE
SUMMARY:WINC Rising Professionals Networking Reception
DESCRIPTION:Rising Professionals: From fundraising to deal flow\, private equity is a people business and building and developing your network is the foundation for professional success. This event provides an exceptional opportunity for those new to the industry or just new to a fund to expand connections\, enrich relationships\, and find new deals.
X-ALT-DESC;FMTTYPE=text/html:<!DOCTYPE html><html><head><title></title></head><body aria-disabled="false"><p><span dir="ltr">Rising Professionals: From fundraising to deal flow\, private equity is a people business and building and developing your network is the foundation for professional success. This event provides an exceptional opportunity for those new to the industry or just new to a fund to expand connections\, enrich relationships\, and find new deals. &nbsp\; &nbsp\;</span> </p></body></html>
LOCATION:455 Madison Avenue New York City NY 10022
UID:e.3233.893538
SEQUENCE:3
DTSTAMP:20260421T030052Z
URL:https://members.sbia.org/events/Details/winc-rising-professionals-networking-reception-1002508?sourceTypeId=Hub
END:VEVENT
END:VCALENDAR
