BEGIN:VCALENDAR
VERSION:2.0
PRODID:-//ChamberMaster//Event Calendar 2.0//EN
METHOD:PUBLISH
X-PUBLISHED-TTL:P1H
REFRESH-INTERVAL:P1H
CALSCALE:GREGORIAN
BEGIN:VTIMEZONE
TZID:America/New_York
BEGIN:DAYLIGHT
RRULE:FREQ=YEARLY;BYMONTH=3;BYDAY=2SU
DTSTART:20070101T000000
TZOFFSETFROM:-0500
TZOFFSETTO:-0400
TZNAME:Eastern Daylight Time
END:DAYLIGHT
BEGIN:STANDARD
RRULE:FREQ=YEARLY;BYMONTH=11;BYDAY=1SU
DTSTART:20070101T000000
TZOFFSETFROM:-0400
TZOFFSETTO:-0500
TZNAME:Eastern Standard Time
END:STANDARD
END:VTIMEZONE
BEGIN:VEVENT
DTSTART;TZID=America/New_York:20260616T130000
DTEND;TZID=America/New_York:20260616T140000
X-MICROSOFT-CDO-ALLDAYEVENT:FALSE
SUMMARY:2026 Digital Lunch and Learn: AI Strategies- Creating Efficiencies for Independent Sponsors
DESCRIPTION:How are independent sponsors really using AI across their operations   what tools and strategies are they using to really create efficiencies. Moving beyond theory   this digital lunch and learn gets into the specifics of what AI tools our panelists use to find success\, the dangers and benefits of their use\, and some success stories along the way.PanelistsModerator: David Fang- Unity HuntDavid Acharya - Acharya Capital PartnersAlejandro Capetillo - Agile Growth EquityChristien Louviere- BDE Capital
X-ALT-DESC;FMTTYPE=text/html:<!DOCTYPE html><html><head><title></title></head><body aria-disabled="false" data-gr-ext-installed="" data-new-gr-c-s-check-loaded="14.1282.0" data-new-gr-c-s-loaded="14.1282.0" spellcheck="false"><p>How are independent sponsors really using AI across their operations &ndash\; what tools and strategies are they using to really create efficiencies. Moving beyond theory &ndash\; this digital lunch and learn gets into the specifics of what AI tools our panelists use to find success\, the dangers and benefits of their use\, and some success stories along the way.</p><p><strong fr-original-style="" style="font-weight: 700\;">Panelists</strong></p><p>Moderator: David Fang- Unity Hunt</p><p>David Acharya - Acharya Capital Partners</p><p>Alejandro Capetillo - Agile Growth Equity</p><p>Christien Louviere- BDE Capital</p></body></html>
LOCATION:
UID:e.3233.1442324
SEQUENCE:3
DTSTAMP:20260421T141709Z
URL:https://members.sbia.org/events/Details/2026-digital-lunch-and-learn-ai-strategies-creating-efficiencies-for-independent-sponsors-1708213?sourceTypeId=Hub
END:VEVENT
END:VCALENDAR
